BEGIN:VCALENDAR
VERSION:2.0
PRODID:-//ChamberMaster//Event Calendar 2.0//EN
METHOD:PUBLISH
X-PUBLISHED-TTL:P3D
REFRESH-INTERVAL:P3D
CALSCALE:GREGORIAN
BEGIN:VEVENT
DTSTART:20141217T010000Z
DTEND:20141217T030000Z
X-MICROSOFT-CDO-ALLDAYEVENT:FALSE
SUMMARY:Montebello Fair Housing Workshop
DESCRIPTION:FREE FAIR HOUSING WORKSHOP Hosted by the City of Montebello and the Housing Rights Center Do you have questions about discrimination\, security deposits\, rent increases\, evictions\, repairs\, and more? The Housing Rights Workshop provides free information on landlord-tenant rights and responsibilities\, the fair housing laws\, and what to do if you?re a victim of housing discrimination. Tuesday\, December 16\, 2014 5:00pm-7:00pm Montebello Public Library Community Room 1550 W. Beverly Blvd. Montebello\, CA 90640 This location is handicap accessible For more information about the Housing Rights Center\, please call Toll Free: (800) 477-5977 TTY Users: (213) 201-0867 Or visit our website at: www.housingrightscenter.org To RSVP for this free event\, please call Marlene at (800) 477-5977 x 1105
X-ALT-DESC;FMTTYPE=text/html:FREE FAIR HOUSING WORKSHOP Hosted by the City of Montebello and the Housing Rights Center Do you have questions about discrimination\, security deposits\, rent increases\, evictions\, repairs\, and more? The Housing Rights Workshop provides free information on landlord-tenant rights and responsibilities\, the fair housing laws\, and what to do if you?re a victim of housing discrimination. Tuesday\, December 16\, 2014 5:00pm-7:00pm Montebello Public Library Community Room 1550 W. Beverly Blvd. Montebello\, CA 90640 This location is handicap accessible For more information about the Housing Rights Center\, please call Toll Free: (800) 477-5977 TTY Users: (213) 201-0867 Or visit our website at: www.housingrightscenter.org To RSVP for this free event\, please call Marlene at (800) 477-5977 x 1105
LOCATION:Montebello Public Library Community Room 1550 W. Beverly Blvd. Montebello\, CA 90640
UID:e.1156.1131
SEQUENCE:3
DTSTAMP:20260419T130433Z
URL:https://www.montebellochamber.org/events/details/montebello-fair-housing-workshop-12-16-2014-1131
END:VEVENT

END:VCALENDAR
