BEGIN:VCALENDAR
VERSION:2.0
PRODID:-//ChamberMaster//Event Calendar 2.0//EN
METHOD:PUBLISH
X-PUBLISHED-TTL:P3D
REFRESH-INTERVAL:P3D
CALSCALE:GREGORIAN
BEGIN:VEVENT
DTSTART;VALUE=DATE:20180623
DTEND;VALUE=DATE:20180624
TRANSP:TRANSPARENT
X-MICROSOFT-CDO-ALLDAYEVENT:TRUE
SUMMARY:Montebello Family Festival
DESCRIPTION:Presented by Angry Horse Brewing...\n\nMontebello Family Festival\n\nIn the Heart of Downtown Montebello\n\n\n\nFood Booths\, Vendors\, Farmers Market\, Live Entertainment\, Kiddie Rides\, Free Raffle\, Fun For Everyone\n\n\n\n"Bringing Montebello Together"
X-ALT-DESC;FMTTYPE=text/html:<div style="text-align: center\;">Presented by Angry Horse Brewing...<br />\n<strong><span style="font-size:14px\;"><span style="font-size:16px\;">Montebello&nbsp\;Family Festival</span></span></strong><br />\nIn the Heart of Downtown Montebello<br />\n<br />\nFood Booths\, Vendors\, Farmers Market\, Live Entertainment\, Kiddie Rides\, Free Raffle\, Fun For Everyone<br />\n<br />\n<span style="font-family:comic sans ms\;"><span style="font-size:16px\;">&quot\;Bringing Montebello Together&quot\;</span></span></div>\n
LOCATION:Downtown Montebello
UID:e.1156.2588
SEQUENCE:3
DTSTAMP:20260419T185626Z
URL:https://www.montebellochamber.org/events/details/montebello-family-festival-2588
END:VEVENT

END:VCALENDAR
