BEGIN:VCALENDAR
VERSION:2.0
PRODID:-//ChamberMaster//Event Calendar 2.0//EN
METHOD:PUBLISH
X-PUBLISHED-TTL:P3D
REFRESH-INTERVAL:P3D
CALSCALE:GREGORIAN
BEGIN:VEVENT
DTSTART:20120829T170000Z
DTEND:20120829T183000Z
X-MICROSOFT-CDO-ALLDAYEVENT:FALSE
SUMMARY:Montebello Family Medical Center - Ribbon Cutting
DESCRIPTION:Please join us for the Ribbon Cutting Ceremony of\n\nMontebello Family Medical Center\n\nStep away for lunch and enjoy tasty treats while networking\n\nwith your fellow chamber members.  The perfect opportunity\n\nto exchange business cards\, build relationships and build\n\nbusiness.\n\n\n\nPlease RSVP by Aug. 27th\, 2012 to\n\nsalvatrice@montebellochamber.org or call 323-721-1153
X-ALT-DESC;FMTTYPE=text/html:<strong>Please join us for the Ribbon Cutting Ceremony of<br />\nMontebello Family Medical Center</strong><br />\nStep away for lunch and enjoy tasty treats while networking<br />\nwith your fellow chamber members.&nbsp\; The perfect opportunity<br />\nto exchange business cards\, build relationships and build<br />\nbusiness.<br />\n<br />\n<strong>Please RSVP by Aug. 27th\, 2012 to<br />\nsalvatrice@montebellochamber.org or call 323-721-1153</strong>
LOCATION:Montebello Family Medical Center 200 W. Mines Ave. Montebello\, CA 90640
UID:e.1156.647
SEQUENCE:3
DTSTAMP:20260420T022236Z
URL:https://www.montebellochamber.org/events/details/montebello-family-medical-center-ribbon-cutting-08-29-2012-647
END:VEVENT

END:VCALENDAR
