BEGIN:VCALENDAR
VERSION:2.0
PRODID:-//ChamberMaster//Event Calendar 2.0//EN
METHOD:PUBLISH
X-PUBLISHED-TTL:P3D
REFRESH-INTERVAL:P3D
CALSCALE:GREGORIAN
BEGIN:VEVENT
DTSTART;VALUE=DATE:20141205
DTEND;VALUE=DATE:20141208
TRANSP:TRANSPARENT
X-MICROSOFT-CDO-ALLDAYEVENT:TRUE
SUMMARY:Montebello Garage Sale
DESCRIPTION:Sales may be conducted only during the hours of 9:00am and 6:00pm.\n\n\n\nAll items for sale and all items utilized in conjuction with the sale must be kept on private property and not enroach into neighboring property or the public right-of-way.\n\n\n\nNot more than one sign may be displayed on the premises for the purposes of advertising the sale.\n\n\n\nPlacement of sign on public property is prohibited.
X-ALT-DESC;FMTTYPE=text/html:Sales may be conducted only during the hours of 9:00am and 6:00pm.<br />\n<br />\nAll items for sale and all items utilized in conjuction with the sale must be kept on private property and not enroach into neighboring property or the public right-of-way.<br />\n<br />\nNot more than one sign may be displayed on the premises for the purposes of advertising the sale.<br />\n<br />\nPlacement of sign on public property is prohibited.
LOCATION:
UID:e.1156.1093
SEQUENCE:3
DTSTAMP:20260419T130532Z
URL:https://www.montebellochamber.org/events/details/montebello-garage-sale-12-05-2014-1093
END:VEVENT

END:VCALENDAR
