BEGIN:VCALENDAR
VERSION:2.0
PRODID:-//ChamberMaster//Event Calendar 2.0//EN
METHOD:PUBLISH
X-PUBLISHED-TTL:P3D
REFRESH-INTERVAL:P3D
CALSCALE:GREGORIAN
BEGIN:VEVENT
DTSTART:20131018T010000Z
DTEND:20131018T030000Z
X-MICROSOFT-CDO-ALLDAYEVENT:FALSE
SUMMARY:Montebello Historical Society-2013 An Evening in Italy
DESCRIPTION:The Montebello Historical Society is having their annual "2013 An Evening in Italy"\n\n\n\nAll proceeds from this event will be used to maintain\, furnish\, operate\, the Juan Matias Sanchez Adobe Historical Site and Museum and provide educational programs.
X-ALT-DESC;FMTTYPE=text/html:The Montebello Historical Society is having their annual &quot\;2013 An <em>Evening in Italy</em>&quot\;<br />\n<br />\nAll proceeds from this event will be used to maintain\, furnish\, operate\, the Juan Matias Sanchez Adobe Historical Site and Museum and provide educational programs.
LOCATION:Montebello Senior Center 115 S. Taylor Ave. Montebello\, CA 90640
UID:e.1156.924
SEQUENCE:3
DTSTAMP:20260419T190422Z
URL:https://www.montebellochamber.org/events/details/montebello-historical-society-2013-an-evening-in-italy-10-17-2013-924
END:VEVENT

END:VCALENDAR
