BEGIN:VCALENDAR
VERSION:2.0
PRODID:-//ChamberMaster//Event Calendar 2.0//EN
METHOD:PUBLISH
X-PUBLISHED-TTL:P3D
REFRESH-INTERVAL:P3D
CALSCALE:GREGORIAN
BEGIN:VEVENT
DTSTART:20190427T160000Z
DTEND:20190427T180000Z
X-MICROSOFT-CDO-ALLDAYEVENT:FALSE
SUMMARY:Montebello Knock N Talk
DESCRIPTION:Assemblywoman Cristina Garcia will hold her Montebello Knock N Talk event on Saturday\, April 27th from 9:00am- 11:00am at the Montebello Senior Citizen Center (115 S Taylor Ave\, Montebello\, CA 90640). At this event you'll receive a legislative update and have the opportunity to learn more about two local nonprofit organizations: Heart of Compassion Distribution and Scholarships for Scholars in Montebello. Assemblywoman Cristina Garcia and her team will be walking door-to-door\, sharing available state resources with Montebello residents.
X-ALT-DESC;FMTTYPE=text/html:<span style="font-family:arial\;">Assemblywoman Cristina Garcia will hold her Montebello Knock N Talk event on <span style="font-size:11.0pt\;">Saturday\, April 27<sup>th</sup> from 9:00am- 11:00am at the Montebello Senior Citizen Center (<span style="background:white\;">115 S Taylor Ave\, Montebello\, CA 90640). At this event you&rsquo\;ll receive a legislative update and have the opportunity to learn more about two local nonprofit organizations: Heart of Compassion Distribution and Scholarships for Scholars in Montebello. Assemblywoman Cristina Garcia and her team will be walking door-to-door\, sharing available state resources with Montebello residents. </span></span></span><br />\n<br />\n&nbsp\;
LOCATION:Montebello Senior Citizen Center 115 S Taylor Ave. Montebello\, CA 90640
UID:e.1156.3283
SEQUENCE:3
DTSTAMP:20260419T172529Z
URL:https://www.montebellochamber.org/events/details/montebello-knock-n-talk-3283
END:VEVENT

END:VCALENDAR
