BEGIN:VCALENDAR
VERSION:2.0
PRODID:-//ChamberMaster//Event Calendar 2.0//EN
METHOD:PUBLISH
X-PUBLISHED-TTL:P3D
REFRESH-INTERVAL:P3D
CALSCALE:GREGORIAN
BEGIN:VEVENT
DTSTART:20150808T170000Z
DTEND:20150808T220000Z
X-MICROSOFT-CDO-ALLDAYEVENT:FALSE
SUMMARY:Montebello Pet Fair
DESCRIPTION:The goal of the Montebello Pet Fair is to provide education and resources for area pet owners. This is a free event. Please register at this link: http://bit.ly/MontebelloPetFair Area businesses are encouraged to sponsor. If you would like a booth\, register here: http://bit.ly/MPFPartners Pet adoptions Pet Health Check ups Working on getting a spay&neuter mobile Educational presentations and booths. Vendors selling items for pets.
X-ALT-DESC;FMTTYPE=text/html:The goal of the Montebello Pet Fair is to provide education and resources for area pet owners. This is a free event. Please register at this link: http://bit.ly/MontebelloPetFair Area businesses are encouraged to sponsor. If you would like a booth\, register here: http://bit.ly/MPFPartners Pet adoptions Pet Health Check ups Working on getting a spay&amp\;neuter mobile Educational presentations and booths. Vendors selling items for pets.
LOCATION:Montebello City Park on Whittier Boulevard.
UID:e.1156.1401
SEQUENCE:3
DTSTAMP:20260420T021821Z
URL:https://www.montebellochamber.org/events/details/montebello-pet-fair-08-08-2015-1401
END:VEVENT

END:VCALENDAR
