BEGIN:VCALENDAR
VERSION:2.0
PRODID:-//ChamberMaster//Event Calendar 2.0//EN
METHOD:PUBLISH
X-PUBLISHED-TTL:P3D
REFRESH-INTERVAL:P3D
CALSCALE:GREGORIAN
BEGIN:VEVENT
DTSTART:20191102T170000Z
DTEND:20191102T220000Z
X-MICROSOFT-CDO-ALLDAYEVENT:FALSE
SUMMARY:Montebello Pet Fair
DESCRIPTION:2019 Montebello Pet Fair\n\n\n\nThis event's purpose is to educate the public on pet care\, provide products and services from our vendors\, and have a fun time.\n\n\n\nFree Parking: Street parking around the park.\n\n\n\nWhat is there to do at the Montebello Pet Fair? Shop for your pet needs including clothing\, treats\, supplies\, and more. Visit vendor booths. Visit our nonprofit booths. Kids can do some art in the Art Corner\, including an art project at 1pm. Watch or participate (with your pet) in the pet contests. Adopt a pet. Attend a workshop. Enjoy food from one of the food trucks. Bring your well behaved dog (or cat if they're good on a leash with dogs around. ) Bring pet food or supplies for the Pet Food and Supply Drive Get your pets vaccinations updated. Get your pet microchipped. Get your pet spayed/neutered. (Low cost prices) More details to come for the 2019 festivities. Vendor/nonprofit information can be found on our website.
X-ALT-DESC;FMTTYPE=text/html:2019 Montebello Pet Fair<br />\n<br />\nThis event&rsquo\;s purpose is to educate the public on pet care\, provide products and services from our vendors\, and have a fun time.<br />\n<br />\nFree Parking: Street parking around the park.<br />\n<br />\nWhat is there to do at the Montebello Pet Fair? Shop for your pet needs including clothing\, treats\, supplies\, and more. Visit vendor booths. Visit our nonprofit booths. Kids can do some art in the Art Corner\, including an art project at 1pm. Watch or participate (with your pet) in the pet contests. Adopt a pet. Attend a workshop. Enjoy food from one of the food trucks. Bring your well behaved dog (or cat if they&rsquo\;re good on a leash with dogs around. ) Bring pet food or supplies for the Pet Food and Supply Drive Get your pets vaccinations updated. Get your pet microchipped. Get your pet spayed/neutered. (Low cost prices) More details to come for the 2019 festivities. Vendor/nonprofit information can be found on our website.
LOCATION:Montebello City Park 1301 W Whittier Blvd. Montebello\, CA 90640
UID:e.1156.3401
SEQUENCE:3
DTSTAMP:20260419T160029Z
URL:https://www.montebellochamber.org/events/details/montebello-pet-fair-3401
END:VEVENT

END:VCALENDAR
