BEGIN:VCALENDAR
VERSION:2.0
PRODID:-//ChamberMaster//Event Calendar 2.0//EN
METHOD:PUBLISH
X-PUBLISHED-TTL:P3D
REFRESH-INTERVAL:P3D
CALSCALE:GREGORIAN
BEGIN:VEVENT
DTSTART:20130409T010000Z
DTEND:20130409T023000Z
X-MICROSOFT-CDO-ALLDAYEVENT:FALSE
SUMMARY:Montebello Police Department Fundraiser
DESCRIPTION:Help our community and Montebello Police Department raise $58\,000 to fully equip and upgrade the current gym facility. A separate account has been established specifically to receive donations for the gym.
X-ALT-DESC;FMTTYPE=text/html:Help our community and Montebello Police Department raise $58\,000 to fully equip and upgrade the current gym facility. A separate account has been established specifically to receive donations for the gym.
LOCATION:Armenian Community Center 420 Washington Blvd. Montebello\, Ca 90640
UID:e.1156.695
SEQUENCE:3
DTSTAMP:20260419T160451Z
URL:https://www.montebellochamber.org/events/details/montebello-police-department-fundraiser-04-08-2013-695
END:VEVENT

END:VCALENDAR
