BEGIN:VCALENDAR
VERSION:2.0
PRODID:-//ChamberMaster//Event Calendar 2.0//EN
METHOD:PUBLISH
X-PUBLISHED-TTL:P3D
REFRESH-INTERVAL:P3D
CALSCALE:GREGORIAN
BEGIN:VEVENT
DTSTART:20190116T023000Z
DTEND:20190116T033000Z
X-MICROSOFT-CDO-ALLDAYEVENT:FALSE
SUMMARY:Montebello Police Dept. Neighborhood Watch Meeting
DESCRIPTION:Neighborhood Watch Meeting\n\nTopics: Student Drop Off/Pick Up\n\n\n\nJoin the Montebello Police Department and other community members for a Neighborhood Watch Meeting at the Montebello Senior Citizen Center.\n\nWe will be discussing dropping off and picking up children at our local schools.  As always\, if you have any questions about how to get involved with Neighborhood Watch we will be happy to give you the answers you need.
X-ALT-DESC;FMTTYPE=text/html:Neighborhood Watch Meeting<br />\nTopics: Student Drop Off/Pick Up<br />\n<br />\nJoin the Montebello Police Department and other community members for a Neighborhood Watch Meeting at the Montebello Senior Citizen Center.<br />\nWe will be discussing dropping off and picking up children at our local schools.&nbsp\; As always\, if you have any questions about how to get involved with Neighborhood Watch we will be happy to give you the answers you need.&nbsp\;<br />\n&nbsp\;
LOCATION:Montebello Senior Citizen Center 115 S. Taylor Ave. Montebello\, CA 90640
UID:e.1156.3162
SEQUENCE:3
DTSTAMP:20260419T144007Z
URL:https://www.montebellochamber.org/events/details/montebello-police-dept-neighborhood-watch-meeting-3162
END:VEVENT

END:VCALENDAR
