BEGIN:VCALENDAR
VERSION:2.0
PRODID:-//ChamberMaster//Event Calendar 2.0//EN
METHOD:PUBLISH
X-PUBLISHED-TTL:P3D
REFRESH-INTERVAL:P3D
CALSCALE:GREGORIAN
BEGIN:VEVENT
DTSTART:20151212T180000Z
DTEND:20151212T220000Z
X-MICROSOFT-CDO-ALLDAYEVENT:FALSE
SUMMARY:Montebello Snow in the Park
DESCRIPTION:On Saturday\, December 12th from 10:00 a.m.   2:00 p.m. the City of Montebello's annual Snow in the Park event will feature a day of family entertainment including delicious foods\, craft vendors\, face painting\, amazing jumpers\, and holiday music all happening at Montebello City Park located at 1301 W. Whittier Blvd.  It's free admission\, so bring your sleds to enjoy the fresh snow slide\; and you won't want to miss out on the "Ugliest Holiday Sweater Contest" and show off your creative style! \n\n \n\nThe department of Parks & Recreation is available to take any calls or questions\, whether you are an interested vendor\, or a member of the community\, at 323-887-4540.  The City hopes that you and your family will celebrate the festivities with us during this joyous holiday season.  For more information\, please also visit our website at www.cityofmontebello.com or drop by the Parks and Recreation Department at 1700 W. Victoria Avenue\, in Montebello.
X-ALT-DESC;FMTTYPE=text/html:<span style="font-family:berlin sans fb\,sans-serif">On Saturday\, December 12th from 10:00 a.m. &ndash\; 2:00 p.m. the City of Montebello&rsquo\;s annual <em>Snow in the Park</em> event will feature a day of family entertainment including delicious foods\, craft vendors\, face painting\, amazing jumpers\, and holiday music all happening at Montebello City Park located at 1301 W. Whittier Blvd. &nbsp\;It&rsquo\;s free admission\, so bring your sleds to enjoy the fresh snow slide\; and you won&rsquo\;t want to miss out on the &ldquo\;Ugliest Holiday Sweater Contest&rdquo\; and show off your creative style! </span><br />\n&nbsp\;<br />\n<span style="font-family:berlin sans fb\,sans-serif">The department of Parks &amp\; Recreation is available to take any calls or questions\, whether you are an interested vendor\, or a member of the community\, at 323-887-4540.&nbsp\; The City hopes that you and your family will celebrate the festivities with us during this joyous holiday season.&nbsp\; For more information\, please also visit our website at <a href="http://www.cityofmontebello.com"><span style="color:windowtext">www.cityofmontebello.com</span></a> or drop by the Parks and Recreation Department at 1700 W. Victoria Avenue\, in Montebello. </span><br />\n&nbsp\;<br />\n&nbsp\;
LOCATION:Montebello City Park
UID:e.1156.1437
SEQUENCE:3
DTSTAMP:20260419T170219Z
URL:https://www.montebellochamber.org/events/details/montebello-snow-in-the-park-12-12-2015-1437
END:VEVENT

END:VCALENDAR
