BEGIN:VCALENDAR
VERSION:2.0
PRODID:-//ChamberMaster//Event Calendar 2.0//EN
METHOD:PUBLISH
X-PUBLISHED-TTL:P3D
REFRESH-INTERVAL:P3D
CALSCALE:GREGORIAN
BEGIN:VEVENT
DTSTART:20190220T023000Z
DTEND:20190220T043000Z
X-MICROSOFT-CDO-ALLDAYEVENT:FALSE
SUMMARY:Montebello Soroptimist Program Meeting
DESCRIPTION:Montebello Soroptimist Program Meeting at Hair Philosophy\n\nIf you are interested in hearing what our service club is about and learn about health and beauty tips\, join us.\n\nYou just may want to join Soroptimist!\n\n\n\nAlex Soto will talk about her new cream line and keeping your skin healthy.
X-ALT-DESC;FMTTYPE=text/html:Montebello Soroptimist Program Meeting at Hair Philosophy<br />\nIf you are interested in hearing what our service club is about and learn about health and beauty tips\, join us.<br />\nYou just may want to join Soroptimist!<br />\n<br />\nAlex Soto will talk about her new cream line and keeping your skin healthy.
LOCATION:Hair Philosophy 501 W. Whittier Blvd. Montebello\, CA 90640
UID:e.1156.3238
SEQUENCE:3
DTSTAMP:20260419T130036Z
URL:https://www.montebellochamber.org/events/details/montebello-soroptimist-program-meeting-3238
END:VEVENT

END:VCALENDAR
