BEGIN:VCALENDAR
VERSION:2.0
PRODID:-//ChamberMaster//Event Calendar 2.0//EN
METHOD:PUBLISH
X-PUBLISHED-TTL:P3D
REFRESH-INTERVAL:P3D
CALSCALE:GREGORIAN
BEGIN:VEVENT
DTSTART:20121110T020000Z
DTEND:20121110T050000Z
X-MICROSOFT-CDO-ALLDAYEVENT:FALSE
SUMMARY:Montebello Taste of The Town 2012
DESCRIPTION:The Montebello Chamber of Commerce proudly announces its 4th Annual Taste  of The Town!  Join over 400 community residents and business members and plan to attend this culinary extravaganza\, which features an evening of sampling delectable delights from more than 20 local restaurants\, fine wine and spirits tasting\, wonderful live entertainment and enthusiastic betting at our live auction.  This is a "MUST ATTEND" event.\n\n\n\nThank you main event Sponsors: Sudha Govindarajan\, M.D.  Inc.\, White Arrow Inc.\, Holy Cross Apostolic Armenian Cathedral\, and The Shops At Montebello\n\n\n\nPlease Note: By law\, no children or minors are permitted at the event.  Must be 21 & Over\n\n\n\nhttp://www.montebellotaste.com
X-ALT-DESC;FMTTYPE=text/html:The Montebello Chamber of Commerce proudly announces its<span style="color: #b22222"><u> </u></span><span style="font-size: 14px"><strong><span style="color: #b22222"><u>4th </u></span><span style="color: #b22222">Annual Taste </span><span _fck_bookmark="1" style="display: none">&nbsp\;</span><span style="color: #b22222">of The Town!&nbsp\; </span></strong><span style="font-size: 12px">J</span><span style="font-size: 12px">oin over 400 community residents and business members and plan to attend this culinary extravaganza\, which features an evening of sampling delectable delights from more than 20 local restaurants\, fine wine and spirits tasting\, wonderful live entertainment and enthusiastic betting at our live auction.&nbsp\; This is a &quot\;MUST ATTEND&quot\; event.<br />\n<br />\nThank you main event Sponsors: <strong>Sudha Govindarajan\, M.D. </strong>&nbsp\;<strong>Inc</strong>.\, <strong>White Arrow</strong> <strong>Inc</strong>.\,<strong> Holy Cross Apostolic Armenian Cathedral</strong>\, and <strong>The Shops At Montebello</strong><br />\n<br />\nPlease Note: By law\, no children or minors are permitted at the event.&nbsp\;&nbsp\;<strong>Must be&nbsp\;21 &amp\; Over<br />\n<br />\n<span style="font-size: 18px"><span style="color: #0000ff"><strong>http://www.montebellotaste.com</strong></span></span><br />\n<span _fck_bookmark="1" style="display: none">&nbsp\;</span></strong></span></span>
LOCATION:Bagramian Hall 900 W. Lincoln Avenue Montebello\, CA 90640
UID:e.1156.662
SEQUENCE:3
DTSTAMP:20260419T214731Z
URL:https://www.montebellochamber.org/events/details/montebello-taste-of-the-town-2012-11-09-2012-662
END:VEVENT

END:VCALENDAR
