BEGIN:VCALENDAR
VERSION:2.0
PRODID:-//ChamberMaster//Event Calendar 2.0//EN
METHOD:PUBLISH
X-PUBLISHED-TTL:P3D
REFRESH-INTERVAL:P3D
CALSCALE:GREGORIAN
BEGIN:VEVENT
DTSTART:20131109T020000Z
DTEND:20131109T050000Z
X-MICROSOFT-CDO-ALLDAYEVENT:FALSE
SUMMARY:Montebello Taste of The Town 2013
DESCRIPTION:The Montebello Chamber of Commerce announces it's\n\n5th Annual Taste of The Town!\n\nJoin over 400 community residents and business members and plan to attend this culinary extravaganza\, which features an evening of sampling delectable delights from more than 20 local restaurants\, fine wine\, and spirits tasting\, wonderful live entertainment and enthusiastic betting at our live auction.  This is a "MUST ATTEND" event.
X-ALT-DESC;FMTTYPE=text/html:<strong>The Montebello Chamber of Commerce</strong> announces it&#39\;s<br />\n<span style="color: rgb(178\, 34\, 34)\;"><strong><u>5th</u> Annual Taste of The Town!</strong></span><br />\nJoin over 400 community residents and business members and plan to attend this culinary extravaganza\, which features an evening of sampling delectable delights from more than 20 local restaurants\, fine wine\, and spirits tasting\, wonderful live entertainment and enthusiastic betting at our live auction.&nbsp\; This is a &quot\;MUST ATTEND&quot\; event.
LOCATION:Bagramian Hall 900 W. Lincoln Avenue Montebello\, CA 90640 (Corner of Lincoln Ave. and Montebello Blvd.)
UID:e.1156.940
SEQUENCE:3
DTSTAMP:20260419T202630Z
URL:https://www.montebellochamber.org/events/details/montebello-taste-of-the-town-2013-11-08-2013-940
END:VEVENT

END:VCALENDAR
