BEGIN:VCALENDAR
VERSION:2.0
PRODID:-//ChamberMaster//Event Calendar 2.0//EN
METHOD:PUBLISH
X-PUBLISHED-TTL:P3D
REFRESH-INTERVAL:P3D
CALSCALE:GREGORIAN
BEGIN:VEVENT
DTSTART:20141115T020000Z
DTEND:20141115T050000Z
X-MICROSOFT-CDO-ALLDAYEVENT:FALSE
SUMMARY:Montebello Taste of The Town 2014
DESCRIPTION:The Montebello Chamber of Commerce announces it's\n\n6th Annual Taste of The Town!\n\n\n\nJoin over 400 community residents and business members and plan to attend this culinary extravaganza\, which features an evening of sampling delectable delights from more than 20 local restaurants\, fine wine\, and sprits tasting\, wonderful live entertainment and enthusiastic betting at our live auction. This is a "MUST ATTEND" event.
X-ALT-DESC;FMTTYPE=text/html:<br />\nThe Montebello Chamber of Commerce announces it&#39\;s<br />\n<strong><span style="color: rgb(178\, 34\, 34)\;">6th Annual Taste of The Town!</span></strong><br />\n<br />\nJoin over 400 community residents and business members and plan to attend this culinary extravaganza\, which features an evening of sampling delectable delights from more than 20 local restaurants\, fine wine\, and sprits tasting\, wonderful live entertainment and enthusiastic betting at our live auction. This is a &quot\;MUST ATTEND&quot\; event.<br />\n&nbsp\;
LOCATION:Bagramian Hall 900 West Lincoln Avenue Montebello\, CA 90640 (Corner of Lincoln Avenue and Montebelllo Blvd)
UID:e.1156.996
SEQUENCE:3
DTSTAMP:20260419T114755Z
URL:https://www.montebellochamber.org/events/details/montebello-taste-of-the-town-2014-11-14-2014-996
END:VEVENT

END:VCALENDAR
