BEGIN:VCALENDAR
VERSION:2.0
PRODID:-//ChamberMaster//Event Calendar 2.0//EN
METHOD:PUBLISH
X-PUBLISHED-TTL:P3D
REFRESH-INTERVAL:P3D
CALSCALE:GREGORIAN
BEGIN:VEVENT
DTSTART:20141213T190000Z
DTEND:20141213T230000Z
X-MICROSOFT-CDO-ALLDAYEVENT:FALSE
SUMMARY:Montebello Winter Wonderland Event
DESCRIPTION:Santa is Coming to Montebello! Come enjoy pictures with Santa. Music\, Face Painting\, Balloons\, Train Rides\, Pony Rides\, and Moon Bounce. Donate a new unwrapped toy and you will be eligible for the Christmas Tree Raffle.
X-ALT-DESC;FMTTYPE=text/html:Santa is Coming to Montebello! Come enjoy pictures with Santa. Music\, Face Painting\, Balloons\, Train Rides\, Pony Rides\, and Moon Bounce. Donate a new unwrapped toy and you will be eligible for the Christmas Tree Raffle.
LOCATION:Montebello City Park 1300 W. Whittier Blvd.
UID:e.1156.1132
SEQUENCE:3
DTSTAMP:20260419T130644Z
URL:https://www.montebellochamber.org/events/details/montebello-winter-wonderland-event-12-13-2014-1132
END:VEVENT

END:VCALENDAR
