BEGIN:VCALENDAR
VERSION:2.0
PRODID:-//ChamberMaster//Event Calendar 2.0//EN
METHOD:PUBLISH
X-PUBLISHED-TTL:P3D
REFRESH-INTERVAL:P3D
CALSCALE:GREGORIAN
BEGIN:VEVENT
DTSTART:20130628T010000Z
DTEND:20130628T040000Z
X-MICROSOFT-CDO-ALLDAYEVENT:FALSE
SUMMARY:Monthly Wine Tasting Event- Thursday
DESCRIPTION:
X-ALT-DESC;FMTTYPE=text/html:
LOCATION:Piccolo Mondo 886 N Garfield Ave. Montebello CA 90640
UID:e.1156.927
SEQUENCE:3
DTSTAMP:20260419T130403Z
URL:https://www.montebellochamber.org/events/details/monthly-wine-tasting-event-thursday-06-27-2013-927
END:VEVENT

END:VCALENDAR
