BEGIN:VCALENDAR
VERSION:2.0
PRODID:-//ChamberMaster//Event Calendar 2.0//EN
METHOD:PUBLISH
X-PUBLISHED-TTL:P3D
REFRESH-INTERVAL:P3D
CALSCALE:GREGORIAN
BEGIN:VEVENT
DTSTART:20180324T213000Z
DTEND:20180325T040000Z
X-MICROSOFT-CDO-ALLDAYEVENT:FALSE
SUMMARY:Moo's Craft Barbecue & Live Music
DESCRIPTION:East LA's Moo's Craft Barbecue is bringing the taste of Texas to the taproom again. Catch them at our patio pop up this Saturday\, March 24th. Taproom opens at noon and they start serving at 2:30PM until they sell out!\n\n\n\nWe'll be pairing each of their menu items with one of our current beers on tap. Our mouths are already watering!\n\n\n\nWe'll also have an appearance by Porque S . He'll be playing acoustic guitar tunes from 5pm-9pm.\n\n\n\nFamily & dog friendly. No cover charge.
X-ALT-DESC;FMTTYPE=text/html:<span style="color: rgb(75\, 79\, 86)\; font-family: Helvetica\, Arial\, sans-serif\; font-size: 14px\;">East LA&#39\;s Moo&#39\;s Craft Barbecue is bringing the taste of Texas to the taproom again. Catch them at our patio pop up this Saturday\, March 24th. Taproom opens at noon and they start serving at 2:30PM until they sell out!</span><br style="color: rgb(75\, 79\, 86)\; font-family: Helvetica\, Arial\, sans-serif\; font-size: 14px\;" />\n<br style="color: rgb(75\, 79\, 86)\; font-family: Helvetica\, Arial\, sans-serif\; font-size: 14px\;" />\n<span style="color: rgb(75\, 79\, 86)\; font-family: Helvetica\, Arial\, sans-serif\; font-size: 14px\;">We&#39\;ll be pairing each of their menu items with one of our current beers on tap. Our mouths are already watering!</span><br style="color: rgb(75\, 79\, 86)\; font-family: Helvetica\, Arial\, sans-serif\; font-size: 14px\;" />\n<br style="color: rgb(75\, 79\, 86)\; font-family: Helvetica\, Arial\, sans-serif\; font-size: 14px\;" />\n<span style="color: rgb(75\, 79\, 86)\; font-family: Helvetica\, Arial\, sans-serif\; font-size: 14px\;">We&#39\;ll also have an appearance by&nbsp\;</span><a data-ft="{&quot\;tn&quot\;:&quot\;-]&quot\;}" href="https://www.facebook.com/porque.si.1" style="color: rgb(54\, 88\, 153)\; cursor: pointer\; text-decoration-line: none\; font-family: Helvetica\, Arial\, sans-serif\; font-size: 14px\;">Porque S&iacute\;</a><span style="color: rgb(75\, 79\, 86)\; font-family: Helvetica\, Arial\, sans-serif\; font-size: 14px\;">. He&#39\;ll be playing acoustic guitar tunes from 5pm-9pm.</span><br style="color: rgb(75\, 79\, 86)\; font-family: Helvetica\, Arial\, sans-serif\; font-size: 14px\;" />\n<br style="color: rgb(75\, 79\, 86)\; font-family: Helvetica\, Arial\, sans-serif\; font-size: 14px\;" />\n<span style="color: rgb(75\, 79\, 86)\; font-family: Helvetica\, Arial\, sans-serif\; font-size: 14px\;">Family &amp\; dog friendly. No cover charge.</span>
LOCATION:Angry Horse Brewing 603 W. Whittier Blvd. Montebello\, CA 90640
UID:e.1156.2514
SEQUENCE:3
DTSTAMP:20260419T130427Z
URL:https://www.montebellochamber.org/events/details/moo-s-craft-barbecue-live-music-2514
END:VEVENT

END:VCALENDAR
