BEGIN:VCALENDAR
VERSION:2.0
PRODID:-//ChamberMaster//Event Calendar 2.0//EN
METHOD:PUBLISH
X-PUBLISHED-TTL:P3D
REFRESH-INTERVAL:P3D
CALSCALE:GREGORIAN
BEGIN:VEVENT
DTSTART:20200116T010000Z
DTEND:20200116T033000Z
X-MICROSOFT-CDO-ALLDAYEVENT:FALSE
SUMMARY:Moonlight Mingle
DESCRIPTION:Join Montebello Chamber & Commerce Industrial Council for our 323 Chamber Interchange Moonlight Mingle! Network with 3 Chambers over appetizers and drinks!\n\n\n\nGuest Chamber:  Paramount Chamber\n\n\n\nSponsored by Embassy Suites by Hilton Los Angeles - Downey
X-ALT-DESC;FMTTYPE=text/html:Join Montebello Chamber &amp\; Commerce Industrial Council for our 323 Chamber Interchange Moonlight Mingle! Network with 3 Chambers over appetizers and drinks!<br />\n<br />\nGuest Chamber:&nbsp\; Paramount Chamber<br />\n<br />\nSponsored by Embassy Suites by Hilton Los Angeles - Downey
LOCATION:Embassy Suites by Hilton Los Angeles - Downey 8425 Firestone Blvd. Downey\, CA 90241
UID:e.1156.3517
SEQUENCE:3
DTSTAMP:20260419T130221Z
URL:https://www.montebellochamber.org/events/details/moonlight-mingle-01-15-2020-3517
END:VEVENT

END:VCALENDAR
