BEGIN:VCALENDAR
VERSION:2.0
PRODID:-//ChamberMaster//Event Calendar 2.0//EN
METHOD:PUBLISH
X-PUBLISHED-TTL:P3D
REFRESH-INTERVAL:P3D
CALSCALE:GREGORIAN
BEGIN:VEVENT
DTSTART:20191114T010000Z
DTEND:20191114T033000Z
X-MICROSOFT-CDO-ALLDAYEVENT:FALSE
SUMMARY:Moonlight Mingle
DESCRIPTION:Join Montebello Chamber & Commerce Industrial Council for our 323 Chamber Interchange Moonlight Mingle!  Appetizers-Drinks-Networking \n\nSponsored by:  Salvatore Italian Restaurant
X-ALT-DESC;FMTTYPE=text/html:Join Montebello Chamber &amp\; Commerce Industrial Council for our 323 Chamber Interchange Moonlight Mingle!&nbsp\; Appetizers-Drinks-Networking&nbsp\;<br />\nSponsored by:&nbsp\; Salvatore Italian Restaurant
LOCATION:Salvatore Italian Restaurant 125 N. 6th Street Montebello\, CA 90640
UID:e.1156.3467
SEQUENCE:3
DTSTAMP:20260419T160000Z
URL:https://www.montebellochamber.org/events/details/moonlight-mingle-11-13-2019-3467
END:VEVENT

END:VCALENDAR
