BEGIN:VCALENDAR
VERSION:2.0
PRODID:-//ChamberMaster//Event Calendar 2.0//EN
METHOD:PUBLISH
X-PUBLISHED-TTL:P3D
REFRESH-INTERVAL:P3D
CALSCALE:GREGORIAN
BEGIN:VEVENT
DTSTART:20220519T000000Z
DTEND:20220519T023000Z
X-MICROSOFT-CDO-ALLDAYEVENT:FALSE
SUMMARY:Moonlight Mingle at Commerce Casino & Hotel
DESCRIPTION:Join Montebello Chamber & Commerce Industrial Council for our 323 Chamber Interchange Moonlight Mingle! Network with 2 Chambers over music\, appetizers and drinks!
X-ALT-DESC;FMTTYPE=text/html:Join Montebello Chamber &amp\; Commerce Industrial Council for our 323 Chamber Interchange Moonlight Mingle! Network with 2 Chambers over music\, appetizers and drinks!&nbsp\;<br />\n<br />\n&nbsp\;
LOCATION:Commerce Casino & Hotel 6121 Telegraph Road Commerce\, CA 90040
UID:e.1156.4050
SEQUENCE:3
DTSTAMP:20260419T185225Z
URL:https://www.montebellochamber.org/events/details/moonlight-mingle-at-commerce-casino-hotel-4050
END:VEVENT

END:VCALENDAR
