BEGIN:VCALENDAR
VERSION:2.0
PRODID:-//ChamberMaster//Event Calendar 2.0//EN
METHOD:PUBLISH
X-PUBLISHED-TTL:P3D
REFRESH-INTERVAL:P3D
CALSCALE:GREGORIAN
BEGIN:VEVENT
DTSTART:20190508T150000Z
DTEND:20190508T163000Z
X-MICROSOFT-CDO-ALLDAYEVENT:FALSE
SUMMARY:Morning Mingle
DESCRIPTION:Join Montebello Chamber and Commerce Industrial Council for our \n\n323 Chamber Interchange Morning Mingle!\n\nCoffee-Breakfast-Networking \n\nEvent sponsored by DoubleTree by Hilton Rosemead/Los Angeles
X-ALT-DESC;FMTTYPE=text/html:Join Montebello Chamber and Commerce Industrial Council for our&nbsp\;<br />\n323 Chamber Interchange Morning Mingle!<br />\nCoffee-Breakfast-Networking&nbsp\;<br />\nEvent sponsored by DoubleTree by Hilton Rosemead/Los Angeles&nbsp\;
LOCATION:DoubleTree by Hilton Rosemead/Los Angeles (Across The Shops at Montebello Mall) 888 Montebello Blvd. Rosemead\, CA 91770
UID:e.1156.3293
SEQUENCE:3
DTSTAMP:20260420T112514Z
URL:https://www.montebellochamber.org/events/details/morning-mingle-3293
END:VEVENT

END:VCALENDAR
