BEGIN:VCALENDAR
VERSION:2.0
PRODID:-//ChamberMaster//Event Calendar 2.0//EN
METHOD:PUBLISH
X-PUBLISHED-TTL:P3D
REFRESH-INTERVAL:P3D
CALSCALE:GREGORIAN
BEGIN:VEVENT
DTSTART:20191002T150000Z
DTEND:20191002T163000Z
X-MICROSOFT-CDO-ALLDAYEVENT:FALSE
SUMMARY:Morning Mingle
DESCRIPTION:Join the members\, guests and staff of Montebello Chamber and Commerce Industrial Council for our 323 Chamber Interchange Morning Mingle! \n\n\n\nGuest Chambers: Pico Rivera Chamber of Commerce & Rosemead Chamber of Commerce\n\n\n\nNetwork with 3 Chambers over a delicious full breakfast and drop your business card in for a chance to win raffle prizes!
X-ALT-DESC;FMTTYPE=text/html:Join the members\, guests and staff of Montebello Chamber and Commerce Industrial Council for our 323 Chamber Interchange Morning Mingle!&nbsp\;<br />\n<br />\nGuest Chambers: Pico Rivera Chamber of Commerce &amp\; Rosemead Chamber of Commerce<br />\n<br />\nNetwork with 3 Chambers over a delicious full breakfast and drop your business card in for a chance to win raffle prizes!
LOCATION:Beverly Hospital 309 W. Beverly Blvd. Montebello\, CA 90640
UID:e.1156.3416
SEQUENCE:3
DTSTAMP:20260419T160031Z
URL:https://www.montebellochamber.org/events/details/morning-mingle-3416
END:VEVENT

END:VCALENDAR
