BEGIN:VCALENDAR
VERSION:2.0
PRODID:-//ChamberMaster//Event Calendar 2.0//EN
METHOD:PUBLISH
X-PUBLISHED-TTL:P3D
REFRESH-INTERVAL:P3D
CALSCALE:GREGORIAN
BEGIN:VEVENT
DTSTART:20180513T160000Z
DTEND:20180513T210000Z
X-MICROSOFT-CDO-ALLDAYEVENT:FALSE
SUMMARY:Mother's Day Brunch
DESCRIPTION:Mother's Day Brunch\n\n\n\nEnjoy a beautiful Mother's Day brunch at the DoubleTree by Hilton Rosemead.\n\n\n\nMenu includes:\n\nSalad Station\n\nPlatters\n\nSouth of the Border\n\nCarving Station\n\nHot Entree\n\nBreakfast Station\n\nVariety of Desserts
X-ALT-DESC;FMTTYPE=text/html:<div style="text-align: center\;">Mother&#39\;s Day Brunch<br />\n<br />\nEnjoy a beautiful Mother&#39\;s Day brunch at the DoubleTree by Hilton Rosemead.<br />\n<br />\nMenu includes:<br />\nSalad Station<br />\nPlatters<br />\nSouth of the Border<br />\nCarving Station<br />\nHot Entree<br />\nBreakfast Station<br />\nVariety of Desserts</div>\n\n<div style="text-align: center\;">&nbsp\;</div>\n
LOCATION:DoubleTree by Hilton Rosemead
UID:e.1156.2568
SEQUENCE:3
DTSTAMP:20260419T160027Z
URL:https://www.montebellochamber.org/events/details/mother-s-day-brunch-2568
END:VEVENT

END:VCALENDAR
