BEGIN:VCALENDAR
VERSION:2.0
PRODID:-//ChamberMaster//Event Calendar 2.0//EN
METHOD:PUBLISH
X-PUBLISHED-TTL:P3D
REFRESH-INTERVAL:P3D
CALSCALE:GREGORIAN
BEGIN:VEVENT
DTSTART:20190512T170000Z
DTEND:20190512T220000Z
X-MICROSOFT-CDO-ALLDAYEVENT:FALSE
SUMMARY:Mother's Day Brunch-DoubleTree by Hilton
DESCRIPTION:Mother's Day Brunch\n\nGather with family & friends to enjoy your favorite culinary delights.\n\n-Made to order omelets\, eggs & waffles -Traditional breakfast side dishes\n\n-Carving station -Seafood bar -Pasta selections -Soup and salad bar \n\n-Assorted bread display -Assorted desserts & pastries -Endless Mimosas \n\n-Live Entertainment
X-ALT-DESC;FMTTYPE=text/html:Mother&#39\;s Day Brunch<br />\nGather with family &amp\; friends to enjoy your favorite culinary delights.<br />\n-Made to order omelets\, eggs &amp\; waffles -Traditional breakfast side dishes<br />\n-Carving station -Seafood bar -Pasta selections -Soup and salad bar&nbsp\;<br />\n-Assorted bread display -Assorted desserts &amp\; pastries -Endless Mimosas&nbsp\;<br />\n-Live Entertainment&nbsp\;
LOCATION:DoubleTree by Hilton (Across the street from the Montebello Mall-The Shops at Montebello) 888 Montebello Blvd. Rosemead\, CA 91770
UID:e.1156.3299
SEQUENCE:3
DTSTAMP:20260420T112657Z
URL:https://www.montebellochamber.org/events/details/mother-s-day-brunch-doubletree-by-hilton-3299
END:VEVENT

END:VCALENDAR
