BEGIN:VCALENDAR
VERSION:2.0
PRODID:-//ChamberMaster//Event Calendar 2.0//EN
METHOD:PUBLISH
X-PUBLISHED-TTL:P3D
REFRESH-INTERVAL:P3D
CALSCALE:GREGORIAN
BEGIN:VEVENT
DTSTART:20130502T230000Z
DTEND:20130503T000000Z
X-MICROSOFT-CDO-ALLDAYEVENT:FALSE
SUMMARY:Mother's Day Program for Teens
DESCRIPTION:Have fun making original origami gifts and meeting new friends. Join Peggy Hasegawa as she shows us how to make something special out of paper.\n\n\n\nAges 12-18
X-ALT-DESC;FMTTYPE=text/html:Have fun making original origami gifts and meeting new friends. Join Peggy Hasegawa as she shows us how to make something special out of paper.<br />\n<br />\nAges 12-18
LOCATION:Montebello Library 1550 W. Beverly Blvd Montebello\, Ca 90640
UID:e.1156.700
SEQUENCE:3
DTSTAMP:20260419T130218Z
URL:https://www.montebellochamber.org/events/details/mother-s-day-program-for-teens-05-02-2013-700
END:VEVENT

END:VCALENDAR
