BEGIN:VCALENDAR
VERSION:2.0
PRODID:-//ChamberMaster//Event Calendar 2.0//EN
METHOD:PUBLISH
X-PUBLISHED-TTL:P3D
REFRESH-INTERVAL:P3D
CALSCALE:GREGORIAN
BEGIN:VEVENT
DTSTART:20150510T183000Z
DTEND:20150510T210000Z
X-MICROSOFT-CDO-ALLDAYEVENT:FALSE
SUMMARY:Mothers Day Champagne Bruch- free with tour of our community!
DESCRIPTION:Bring your mom and entire family! Let's celebrate Mother's Day together with a tasty champagne brunch!! All ages welcome. We hope to see you and yours there!!
X-ALT-DESC;FMTTYPE=text/html:Bring your mom and entire family! Let&#39\;s celebrate Mother&#39\;s Day together with a tasty champagne brunch!! All ages welcome. We hope to see you and yours there!!
LOCATION:Brookdale Central Whittier 8101 Painter Ave Whittier CA 90602
UID:e.1156.1390
SEQUENCE:3
DTSTAMP:20260419T202910Z
URL:https://www.montebellochamber.org/events/details/mothers-day-champagne-bruch-free-with-tour-of-our-community-05-10-2015-1390
END:VEVENT

END:VCALENDAR
