BEGIN:VCALENDAR
VERSION:2.0
PRODID:-//ChamberMaster//Event Calendar 2.0//EN
METHOD:PUBLISH
X-PUBLISHED-TTL:P3D
REFRESH-INTERVAL:P3D
CALSCALE:GREGORIAN
BEGIN:VEVENT
DTSTART:20180602T013000Z
DTEND:20180602T050000Z
X-MICROSOFT-CDO-ALLDAYEVENT:FALSE
SUMMARY:Movie in the Park
DESCRIPTION:City of Montebello\n\n\n\nFREE Event\n\nCOCO\n\nMovie in the Partk\n\n\n\nPopcorn and Snacks\n\nDonated by Mayor Vanessa Delgado
X-ALT-DESC;FMTTYPE=text/html:<div style="text-align: center\;">City of Montebello<br />\n<br />\nFREE Event<br />\n<strong>COCO</strong><br />\nMovie in the Partk<br />\n<br />\nPopcorn and Snacks<br />\nDonated by Mayor Vanessa Delgado</div>\n
LOCATION:City Park Band Shell 1301 W. Whittier Blvd.
UID:e.1156.2581
SEQUENCE:3
DTSTAMP:20260419T173453Z
URL:https://www.montebellochamber.org/events/details/movie-in-the-park-2581
END:VEVENT

END:VCALENDAR
