BEGIN:VCALENDAR
VERSION:2.0
PRODID:-//ChamberMaster//Event Calendar 2.0//EN
METHOD:PUBLISH
X-PUBLISHED-TTL:P3D
REFRESH-INTERVAL:P3D
CALSCALE:GREGORIAN
BEGIN:VEVENT
DTSTART:20190501T183000Z
DTEND:20190501T200000Z
X-MICROSOFT-CDO-ALLDAYEVENT:FALSE
SUMMARY:MPD-Salute to Public Safety Luncheon
DESCRIPTION:Salute to Public Safety Luncheon\n\nHonoring the women and men of the Montebello Police Department. Hosted by the Montebello Police Foundation\, Rotary Club of Montebello and Quiet Cannon.  Featured Speaker:  Chief Brad Keller
X-ALT-DESC;FMTTYPE=text/html:Salute to Public Safety Luncheon<br />\nHonoring the women and men of the Montebello Police Department. Hosted by the Montebello Police Foundation\, Rotary Club of Montebello and Quiet Cannon.&nbsp\; Featured Speaker:&nbsp\; Chief Brad Keller&nbsp\;
LOCATION:Quiet Cannon 901 Via San Clemente Montebello\, CA 90640
UID:e.1156.3295
SEQUENCE:3
DTSTAMP:20260419T143335Z
URL:https://www.montebellochamber.org/events/details/mpd-salute-to-public-safety-luncheon-3295
END:VEVENT

END:VCALENDAR
