BEGIN:VCALENDAR
VERSION:2.0
PRODID:-//ChamberMaster//Event Calendar 2.0//EN
METHOD:PUBLISH
X-PUBLISHED-TTL:P3D
REFRESH-INTERVAL:P3D
CALSCALE:GREGORIAN
BEGIN:VEVENT
DTSTART:20220527T010000Z
DTEND:20220527T040000Z
X-MICROSOFT-CDO-ALLDAYEVENT:FALSE
SUMMARY:Multi-Chamber Event: Whittier Regional Symphony
DESCRIPTION:Whittier Regional Symphony\n\nCelebrate the triumphant return of the Symphony!  A Multi-Mixer with the Chambers of Whittier\, Pico Rivera\, Montebello\, La Habra\, Norwalk\, and Santa Fe Springs.  Join us for live music\, food\, and raffles!
X-ALT-DESC;FMTTYPE=text/html:Whittier Regional Symphony<br />\nCelebrate the triumphant return of the Symphony!&nbsp\; A Multi-Mixer with the Chambers of Whittier\, Pico Rivera\, Montebello\, La Habra\, Norwalk\, and Santa Fe Springs.&nbsp\; Join us for live music\, food\, and raffles!&nbsp\;
LOCATION:DoubleTree by Hilton Hotel 7320 Greenleaf Ave. Whittier\, CA 90602
UID:e.1156.4028
SEQUENCE:3
DTSTAMP:20260419T185139Z
URL:https://www.montebellochamber.org/events/details/multi-chamber-event-whittier-regional-symphony-4028
END:VEVENT

END:VCALENDAR
