BEGIN:VCALENDAR
VERSION:2.0
PRODID:-//ChamberMaster//Event Calendar 2.0//EN
METHOD:PUBLISH
X-PUBLISHED-TTL:P3D
REFRESH-INTERVAL:P3D
CALSCALE:GREGORIAN
BEGIN:VEVENT
DTSTART:20160929T003000Z
DTEND:20160929T023000Z
X-MICROSOFT-CDO-ALLDAYEVENT:FALSE
SUMMARY:Multi-Chamber Mixer Skyrose Chapel Rose Hills
DESCRIPTION:Multi-Chamber Mixer at the Skyrose Chapel Rose Hills Memorial Park   \n\nHosted by: Montebello Chamber\, Santa Fe Springs Chamber\, Regional Chamber of Commerce San Gabriel Valley\, El Monte/So El Monte Chamber\, and Whittier Area Chamber.
X-ALT-DESC;FMTTYPE=text/html:Multi-Chamber Mixer at the Skyrose Chapel Rose Hills Memorial Park&nbsp\; &nbsp\;<br />\nHosted by: Montebello Chamber\, Santa Fe Springs Chamber\, Regional Chamber of Commerce San Gabriel Valley\, El Monte/So El Monte Chamber\, and Whittier Area Chamber.
LOCATION:Rose Hills Memorial Park Skyrose Chapel 3888 Workman Mill Road Whittier\, CA 90601
UID:e.1156.1500
SEQUENCE:3
DTSTAMP:20260419T173059Z
URL:https://www.montebellochamber.org/events/details/multi-chamber-mixer-skyrose-chapel-rose-hills-09-28-2016-1500
END:VEVENT

END:VCALENDAR
