BEGIN:VCALENDAR
VERSION:2.0
PRODID:-//ChamberMaster//Event Calendar 2.0//EN
METHOD:PUBLISH
X-PUBLISHED-TTL:P3D
REFRESH-INTERVAL:P3D
CALSCALE:GREGORIAN
BEGIN:VEVENT
DTSTART:20140514T150000Z
DTEND:20140514T163000Z
X-MICROSOFT-CDO-ALLDAYEVENT:FALSE
SUMMARY:Multi-Chamber Networking Breakfast
DESCRIPTION:Join the Montebello\, Monterey Park\, and Rosemead Chamber of Commerce in partnership with Southern California Edison in a multi-chamber networking breakfast\, titled "How Time Of-Use Rates Work."
X-ALT-DESC;FMTTYPE=text/html:Join the Montebello\, Monterey Park\, and Rosemead Chamber of Commerce in partnership with Southern California Edison in a multi-chamber networking breakfast\, titled &quot\;How Time Of-Use Rates Work.&quot\;
LOCATION:Southern California (SCE) Montebello Service Center 1000 E. Potrero Grande\, Monterey Park CA
UID:e.1156.998
SEQUENCE:3
DTSTAMP:20260419T143027Z
URL:https://www.montebellochamber.org/events/details/multi-chamber-networking-breakfast-05-14-2014-998
END:VEVENT

END:VCALENDAR
