BEGIN:VCALENDAR
VERSION:2.0
PRODID:-//ChamberMaster//Event Calendar 2.0//EN
METHOD:PUBLISH
X-PUBLISHED-TTL:P3D
REFRESH-INTERVAL:P3D
CALSCALE:GREGORIAN
BEGIN:VEVENT
DTSTART:20181009T020000Z
DTEND:20181009T040000Z
X-MICROSOFT-CDO-ALLDAYEVENT:FALSE
SUMMARY:MUSD Board of Education Candidates Forum
DESCRIPTION:Montebello Council PTA\n\nLearn about the candidates on the \n\nNovember 6\, 2018 ballot for the\n\nMontebello Unified School District Board of Education\n\n\n\nCandidates Forum\n\n\n\nAll candidates have been invited to participate. Updates will be\n\nposted on the Montebello Council PTA Facebook page.\n\nQuestions? Please contact MCPTA.Board@gmail.com\n\n\n\nThis event is sponsored by Montebello Council PTA\, with the participation\n\nof the League of Women Voters of Whittier to provide voters with the\n\nopportunity to learn about the candidates. Both organizations are nonpartisan\n\ngroups and will not endorse any candidates.
X-ALT-DESC;FMTTYPE=text/html:Montebello Council PTA<br />\nLearn about the candidates on the&nbsp\;<br />\nNovember 6\, 2018 ballot for the<br />\nMontebello Unified School District Board of Education<br />\n<br />\n<strong>Candidates Forum</strong><br />\n<br />\nAll candidates have been invited to participate. Updates will be<br />\nposted on the Montebello Council PTA Facebook page.<br />\nQuestions? Please contact MCPTA.Board@gmail.com<br />\n<br />\nThis event is sponsored by Montebello Council PTA\, with the participation<br />\nof the League of Women Voters of Whittier to provide voters with the<br />\nopportunity to learn about the candidates. Both organizations are nonpartisan<br />\ngroups and will not endorse any candidates.
LOCATION:Montebello High School auditorium 2100 W Cleveland Ave\, Montebello\, CA 90640
UID:e.1156.2887
SEQUENCE:3
DTSTAMP:20260419T202456Z
URL:https://www.montebellochamber.org/events/details/musd-board-of-education-candidates-forum-2887
END:VEVENT

END:VCALENDAR
