BEGIN:VCALENDAR
VERSION:2.0
PRODID:-//ChamberMaster//Event Calendar 2.0//EN
METHOD:PUBLISH
X-PUBLISHED-TTL:P3D
REFRESH-INTERVAL:P3D
CALSCALE:GREGORIAN
BEGIN:VEVENT
DTSTART:20190928T160000Z
DTEND:20190928T190000Z
X-MICROSOFT-CDO-ALLDAYEVENT:FALSE
SUMMARY:MUSD-College & Career Readiness Fair
DESCRIPTION:Montebello Unified School District -College & Career Readiness Fair\n\n-Parent Workshops                -Career Representatives \n\n-College Representatives       -Career Technical Education\n\n-Job Fair
X-ALT-DESC;FMTTYPE=text/html:Montebello Unified School District -College &amp\; Career Readiness Fair<br />\n-Parent Workshops&nbsp\;&nbsp\;&nbsp\;&nbsp\;&nbsp\; &nbsp\; &nbsp\;&nbsp\;&nbsp\;&nbsp\;&nbsp\;&nbsp\;&nbsp\;&nbsp\;-Career Representatives&nbsp\;<br />\n-College Representatives&nbsp\;&nbsp\;&nbsp\;&nbsp\;&nbsp\; &nbsp\;-Career Technical Education<br />\n-Job Fair&nbsp\;&nbsp\;
LOCATION:Bell Gardens High School 6119 Agra Street Bell Gardens\, CA 90201
UID:e.1156.3433
SEQUENCE:3
DTSTAMP:20260419T173557Z
URL:https://www.montebellochamber.org/events/details/musd-college-career-readiness-fair-3433
END:VEVENT

END:VCALENDAR
