BEGIN:VCALENDAR
VERSION:2.0
PRODID:-//ChamberMaster//Event Calendar 2.0//EN
METHOD:PUBLISH
X-PUBLISHED-TTL:P3D
REFRESH-INTERVAL:P3D
CALSCALE:GREGORIAN
BEGIN:VEVENT
DTSTART:20130505T020000Z
DTEND:20130505T040000Z
X-MICROSOFT-CDO-ALLDAYEVENT:FALSE
SUMMARY:MUSD Music Showcase Concert
DESCRIPTION:Top band and orchestra students from each of the district's six (6)\n\n	intermediate schools will combine to present an hour long concert that\n\n	aims to celebrate and increase support for excellent education across the\n\n	district. The program will feature a varied repertoire that ranges from pop\n\n	to classical. Also featured\, will be six very special guest conductors   the\n\n	very talented instrumental music teachers from Bell Gardens Intermediate\,\n\n	Eastmont Intermediate\, La Merced Intermediate\, Macy Intermediate\,\n\n	Montebello Intermediate\, and Suva Intermediate Schools.\n\n	All proceeds from this fundraiser event will help the foundation support\n\n	schools and programs throughout Montebello Unified School District.\n\n	If you have any questions or for ticket information\,\n\n	please contact Bill Whitmore at 213.709.8904 or Daisy Gonzalez 323.887.7900 ext. 2221
X-ALT-DESC;FMTTYPE=text/html:<p class="MsoNormal" style="margin: 0in 0in 0pt\; line-height: normal\; mso-layout-grid-align: none\;">\n	<font face="TimesNewRomanPSMT" size="5"><font face="TimesNewRomanPSMT" size="5"><span style="font-size: 10pt\; mso-bidi-font-family: TimesNewRomanPSMT\;"><font color="#000000"><font face="Calibri">Top band and orchestra students from each of the district&rsquo\;s six (6)<o:p></o:p></font></font></span></font></font></p>\n<p class="MsoNormal" style="margin: 0in 0in 0pt\; line-height: normal\; mso-layout-grid-align: none\;">\n	<font face="TimesNewRomanPSMT" size="5"><font face="TimesNewRomanPSMT" size="5"><span style="font-size: 10pt\; mso-bidi-font-family: TimesNewRomanPSMT\;"><font color="#000000"><font face="Calibri">intermediate schools will combine to present an hour long concert that<o:p></o:p></font></font></span></font></font></p>\n<p class="MsoNormal" style="margin: 0in 0in 0pt\; line-height: normal\; mso-layout-grid-align: none\;">\n	<font face="TimesNewRomanPSMT" size="5"><font face="TimesNewRomanPSMT" size="5"><span style="font-size: 10pt\; mso-bidi-font-family: TimesNewRomanPSMT\;"><font color="#000000"><font face="Calibri">aims to celebrate and increase support for excellent education across the<o:p></o:p></font></font></span></font></font></p>\n<p class="MsoNormal" style="margin: 0in 0in 0pt\; line-height: normal\; mso-layout-grid-align: none\;">\n	<font face="TimesNewRomanPSMT" size="5"><font face="TimesNewRomanPSMT" size="5"><span style="font-size: 10pt\; mso-bidi-font-family: TimesNewRomanPSMT\;"><font color="#000000"><font face="Calibri">district. The program will feature a varied repertoire that ranges from pop<o:p></o:p></font></font></span></font></font></p>\n<p class="MsoNormal" style="margin: 0in 0in 0pt\; line-height: normal\; mso-layout-grid-align: none\;">\n	<font face="TimesNewRomanPSMT" size="5"><font face="TimesNewRomanPSMT" size="5"><span style="font-size: 10pt\; mso-bidi-font-family: TimesNewRomanPSMT\;"><font color="#000000"><font face="Calibri">to classical. Also featured\, will be six very special guest conductors &ndash\; the<o:p></o:p></font></font></span></font></font></p>\n<p class="MsoNormal" style="margin: 0in 0in 0pt\; line-height: normal\; mso-layout-grid-align: none\;">\n	<font face="TimesNewRomanPSMT" size="5"><font face="TimesNewRomanPSMT" size="5"><span style="font-size: 10pt\; mso-bidi-font-family: TimesNewRomanPSMT\;"><font color="#000000"><font face="Calibri">very talented instrumental music teachers from Bell Gardens Intermediate\,<o:p></o:p></font></font></span></font></font></p>\n<p class="MsoNormal" style="margin: 0in 0in 0pt\; line-height: normal\; mso-layout-grid-align: none\;">\n	<font face="TimesNewRomanPSMT" size="5"><font face="TimesNewRomanPSMT" size="5"><span style="font-size: 10pt\; mso-bidi-font-family: TimesNewRomanPSMT\;"><font color="#000000"><font face="Calibri">Eastmont Intermediate\, La Merced Intermediate\, Macy Intermediate\,<o:p></o:p></font></font></span></font></font></p>\n<p class="MsoNormal" style="margin: 0in 0in 0pt\; line-height: normal\; mso-layout-grid-align: none\;">\n	<font face="TimesNewRomanPSMT" size="5"><font face="TimesNewRomanPSMT" size="5"><span style="font-size: 10pt\; mso-bidi-font-family: TimesNewRomanPSMT\;"><font color="#000000"><font face="Calibri">Montebello Intermediate\, and Suva Intermediate Schools.<o:p></o:p></font></font></span></font></font></p>\n<p class="MsoNormal" style="margin: 0in 0in 0pt\; line-height: normal\; mso-layout-grid-align: none\;">\n	<font face="TimesNewRomanPSMT" size="5"><font face="TimesNewRomanPSMT" size="5"><span style="font-size: 10pt\; mso-bidi-font-family: TimesNewRomanPSMT\;"><font color="#000000"><font face="Calibri">All proceeds from this fundraiser event will help the foundation support<o:p></o:p></font></font></span></font></font></p>\n<p class="MsoNormal" style="margin: 0in 0in 0pt\; line-height: normal\; mso-layout-grid-align: none\;">\n	<font face="TimesNewRomanPSMT" size="5"><font face="TimesNewRomanPSMT" size="5"><span style="font-size: 10pt\; mso-bidi-font-family: TimesNewRomanPSMT\;"><font color="#000000"><font face="Calibri">schools and programs throughout Montebello Unified School District.<o:p></o:p></font></font></span></font></font></p>\n<p class="MsoNormal" style="margin: 0in 0in 0pt\; line-height: normal\; mso-layout-grid-align: none\;">\n	<font face="TimesNewRomanPSMT" size="5"><font face="TimesNewRomanPSMT" size="5"><span style="font-size: 10pt\; mso-bidi-font-family: TimesNewRomanPSMT\;"><font color="#000000"><font face="Calibri">If you have any questions or for ticket information\,<o:p></o:p></font></font></span></font></font></p>\n<p class="MsoNormal" style="margin: 0in 0in 10pt\;">\n	<font face="TimesNewRomanPSMT" size="5"><font face="TimesNewRomanPSMT" size="5"><span style="line-height: 115%\; font-size: 10pt\; mso-bidi-font-family: TimesNewRomanPSMT\;"><font color="#000000" face="Calibri">please contact Bill Whitmore at 213.709.8904 or Daisy Gonzalez 323.887.7900 ext. 2221</font></span><span style="line-height: 115%\; font-size: 10pt\;"><o:p></o:p></span></font></font></p>\n<p align="left">\n	&nbsp\;</p>\n
LOCATION:Bell Gardens High Scholl Auditorium
UID:e.1156.696
SEQUENCE:3
DTSTAMP:20260419T143519Z
URL:https://www.montebellochamber.org/events/details/musd-music-showcase-concert-05-04-2013-696
END:VEVENT

END:VCALENDAR
