BEGIN:VCALENDAR
VERSION:2.0
PRODID:-//ChamberMaster//Event Calendar 2.0//EN
METHOD:PUBLISH
X-PUBLISHED-TTL:P3D
REFRESH-INTERVAL:P3D
CALSCALE:GREGORIAN
BEGIN:VEVENT
DTSTART:20191203T010000Z
DTEND:20191203T030000Z
X-MICROSOFT-CDO-ALLDAYEVENT:FALSE
SUMMARY:Music Mondays at The Shops at Montebello
DESCRIPTION:Join The Shops at Montebello for #MusicMonday  the first Monday of every month to learn how to play an instrument!\n\n#MusicMonday will feature an hour long program that includes a FREE 30 minute music lesson\, giveaways and special performances.\n\nThe featured instrument for December  will be the tambourine.  Spaces are limited\, RSVP to: info@shopsatmontebello.com.
X-ALT-DESC;FMTTYPE=text/html:<p>Join The Shops at Montebello for #MusicMonday&nbsp\; the first Monday of every month to learn&nbsp\;how to play an instrument!</p>\n\n<p>#MusicMonday will feature an hour&nbsp\;long program that includes a FREE&nbsp\;30 minute music lesson\, giveaways&nbsp\;and special performances.</p>\n\n<p>The featured instrument for December&nbsp\; will be the tambourine.&nbsp\; Spaces&nbsp\;are limited\, <b>RSVP</b> to: <b>info@shopsatmontebello.com.&nbsp\;</b></p>\n
LOCATION:The Shops at Montebello 2134 Montebello Town Center Drive Montebello\, CA 90640
UID:e.1156.3496
SEQUENCE:3
DTSTAMP:20260419T143648Z
URL:https://www.montebellochamber.org/events/details/music-mondays-at-the-shops-at-montebello-3496
END:VEVENT

END:VCALENDAR
