BEGIN:VCALENDAR
VERSION:2.0
PRODID:-//ChamberMaster//Event Calendar 2.0//EN
METHOD:PUBLISH
X-PUBLISHED-TTL:P3D
REFRESH-INTERVAL:P3D
CALSCALE:GREGORIAN
BEGIN:VEVENT
DTSTART:20140627T013000Z
DTEND:20140627T033000Z
X-MICROSOFT-CDO-ALLDAYEVENT:FALSE
SUMMARY:My Vehicle Maintenance 101
DESCRIPTION:Calling all women: My Vehicle Maintenance 101\n\nDiego's Auto Repair announces their Women's Seminar titled\n\n"My Vehicle Maintenance 101"\n\n\n\nThe seminar will feature topics on understanding the meaning of maintenance\, share helpful tips/suggestions\, what to look for when choosing an auto shop for your vehicle and what questions to ask.\n\n\n\nEmpower yourself with knowledge. There is no cost to attend. However\, seating is limited.
X-ALT-DESC;FMTTYPE=text/html:Calling all women: My Vehicle Maintenance 101<br />\nDiego&#39\;s Auto Repair announces their Women&#39\;s Seminar titled<br />\n&quot\;My Vehicle Maintenance 101&quot\;<br />\n<br />\nThe seminar will feature topics on understanding the meaning of maintenance\, share helpful tips/suggestions\, what to look for when choosing an auto shop for your vehicle and what questions to ask.<br />\n<br />\nEmpower yourself with knowledge. There is no cost to attend. However\, seating is limited.
LOCATION:Diego's Auto Repair 8112 Truck Way\, Montebello CA 90640
UID:e.1156.1006
SEQUENCE:3
DTSTAMP:20260419T130527Z
URL:https://www.montebellochamber.org/events/details/my-vehicle-maintenance-101-06-26-2014-1006
END:VEVENT

END:VCALENDAR
