BEGIN:VCALENDAR
VERSION:2.0
PRODID:-//ChamberMaster//Event Calendar 2.0//EN
METHOD:PUBLISH
X-PUBLISHED-TTL:P3D
REFRESH-INTERVAL:P3D
CALSCALE:GREGORIAN
BEGIN:VEVENT
DTSTART:20140924T190000Z
DTEND:20140924T203000Z
X-MICROSOFT-CDO-ALLDAYEVENT:FALSE
SUMMARY:Nail Bar & Spa Ribbon Cutting Ceremony
DESCRIPTION:Please join us for the Ribbon Cutting Ceremony of Nail Bar & Spa \n\n\n\nStep away for lunch and enjoy tasty treats while networking with your fellow chamber members. The perfect opportunity to exchange business cards\, build relationships and build business.
X-ALT-DESC;FMTTYPE=text/html:<strong>Please join us for the Ribbon Cutting Ceremony of Nail Bar &amp\; Spa </strong><br />\n<br />\nStep away for lunch and enjoy tasty treats while networking with your fellow chamber members. The perfect opportunity to exchange business cards\, build relationships and build business.<br />\n&nbsp\;
LOCATION:104 W. Beverly Blvd\, Montebello\, CA 90640
UID:e.1156.1085
SEQUENCE:3
DTSTAMP:20260419T130630Z
URL:https://www.montebellochamber.org/events/details/nail-bar-spa-ribbon-cutting-ceremony-09-24-2014-1085
END:VEVENT

END:VCALENDAR
