BEGIN:VCALENDAR
VERSION:2.0
PRODID:-//ChamberMaster//Event Calendar 2.0//EN
METHOD:PUBLISH
X-PUBLISHED-TTL:P3D
REFRESH-INTERVAL:P3D
CALSCALE:GREGORIAN
BEGIN:VEVENT
DTSTART:20180808T010000Z
DTEND:20180808T040000Z
X-MICROSOFT-CDO-ALLDAYEVENT:FALSE
SUMMARY:National Night Out
DESCRIPTION:This free family event is designed to celebrate police and community partnerships within the City of Montebello. Join us and receive free information about crime prevention\, safety\, general health\, and the importance of building a strong community.\n\n\n\nFree for vendors\, and a great opportunity to meet and interact with the community.\n\n\n\nIn order to pre-register please fill out the attached form and return it via email by June 27\, 2018.
X-ALT-DESC;FMTTYPE=text/html:This free family event is designed to celebrate police and community partnerships within the City of&nbsp\;Montebello. Join us and receive free information about crime prevention\, safety\, general health\, and the importance of building a strong community.<br />\n<br />\nFree for vendors\, and a great opportunity to meet and interact with the community.<br />\n<br />\n<strong>In order to pre-register please fill out the attached form and return it via email by June 27\, 2018</strong>.<br />\n&nbsp\;
LOCATION:1600/1700 block of W. Victoria Ave.
UID:e.1156.2610
SEQUENCE:3
DTSTAMP:20260419T202129Z
URL:https://www.montebellochamber.org/events/details/national-night-out-2610
END:VEVENT

END:VCALENDAR
