BEGIN:VCALENDAR
VERSION:2.0
PRODID:-//ChamberMaster//Event Calendar 2.0//EN
METHOD:PUBLISH
X-PUBLISHED-TTL:P3D
REFRESH-INTERVAL:P3D
CALSCALE:GREGORIAN
BEGIN:VEVENT
DTSTART:20190807T010000Z
DTEND:20190807T040000Z
X-MICROSOFT-CDO-ALLDAYEVENT:FALSE
SUMMARY:National Night Out
DESCRIPTION:On Tuesday\, August 6th starting at 6:00 pm the Montebello Police Department will once again be hosting National Night Out for the city of Montebello. The goal of this annual event is to promote police-community partnerships and neighborhood camaraderie to make our city a safer and more caring place to live and work. The event is free and will feature music\, food trucks\, safety information\, giveaways\, games and demonstrations from our Special Response Team (SWAT)\, K-9 teams\, Police Explorers and the all new Drone Team. This will be a fun and safe event for the whole family.
X-ALT-DESC;FMTTYPE=text/html:<span style="font-size: 12pt\; line-height: 115%\; color: #2d2d2d\; background-image: initial\; background-position: initial\; background-size: initial\; background-repeat: initial\; background-attachment: initial\; background-origin: initial\; background-clip: initial\;">On Tuesday\, August 6<sup>th</sup> starting at 6:00 pm the Montebello Police Department will once again be hosting National Night Out for the city of Montebello. The goal of this annual event is to promote police-community partnerships and neighborhood camaraderie to make our city a safer and more caring place to live and work. The event is free and will feature music\, food trucks\, safety information\, giveaways\, games and demonstrations from our Special Response Team (SWAT)\, K-9 teams\, Police Explorers and the all new Drone Team. This will be a fun and safe event for the whole family. </span>
LOCATION:1600-1700 Block of Victoria Avenue Montebello\, CA 90640
UID:e.1156.3368
SEQUENCE:3
DTSTAMP:20260419T130222Z
URL:https://www.montebellochamber.org/events/details/national-night-out-3368
END:VEVENT

END:VCALENDAR
