BEGIN:VCALENDAR
VERSION:2.0
PRODID:-//ChamberMaster//Event Calendar 2.0//EN
METHOD:PUBLISH
X-PUBLISHED-TTL:P3D
REFRESH-INTERVAL:P3D
CALSCALE:GREGORIAN
BEGIN:VEVENT
DTSTART:20190227T023000Z
DTEND:20190227T023000Z
X-MICROSOFT-CDO-ALLDAYEVENT:FALSE
SUMMARY:Neighborhood Watch Meeting-Montebello Police Department
DESCRIPTION:Join the Montebello Police Department and other community members for a Neighborhood Watch Meeting.  \n\n-Vehicle Burglary                                 \n\n-Pedestrian and Driving Safety\n\n-Neighborhood Watch Sign Replacement Program
X-ALT-DESC;FMTTYPE=text/html:Join the Montebello Police Department and other community members for a Neighborhood Watch Meeting.&nbsp\;&nbsp\;<br />\n-Vehicle Burglary&nbsp\; &nbsp\;&nbsp\;&nbsp\;&nbsp\;&nbsp\;&nbsp\;&nbsp\;&nbsp\;&nbsp\;&nbsp\;&nbsp\;&nbsp\;&nbsp\;&nbsp\; &nbsp\;&nbsp\;&nbsp\;&nbsp\;&nbsp\;&nbsp\;&nbsp\;&nbsp\;&nbsp\;&nbsp\;&nbsp\;&nbsp\;&nbsp\;&nbsp\;&nbsp\;&nbsp\;<br />\n-Pedestrian and Driving Safety<br />\n-Neighborhood Watch Sign Replacement Program
LOCATION:Hosted at the Montebello Senior Citizen Center 115 S. Taylor Avenue Montebello\, CA 90640
UID:e.1156.3244
SEQUENCE:3
DTSTAMP:20260419T130926Z
URL:https://www.montebellochamber.org/events/details/neighborhood-watch-meeting-montebello-police-department-3244
END:VEVENT

END:VCALENDAR
