BEGIN:VCALENDAR
VERSION:2.0
PRODID:-//ChamberMaster//Event Calendar 2.0//EN
METHOD:PUBLISH
X-PUBLISHED-TTL:P3D
REFRESH-INTERVAL:P3D
CALSCALE:GREGORIAN
BEGIN:VEVENT
DTSTART:20140312T143000Z
DTEND:20140312T163000Z
X-MICROSOFT-CDO-ALLDAYEVENT:FALSE
SUMMARY:Networking Breafast 3.0- Ozzie's Diner Bar and Grill
DESCRIPTION:Where local business come together to meet and greet with other businesses with some common goals in mind\; to gather client referrals and leads\, expand professional connections and most importantly\, build profitable relationships.
X-ALT-DESC;FMTTYPE=text/html:Where local business come together to meet and greet with other businesses with some common goals in mind\; to gather client referrals and leads\, expand professional connections and most importantly\, build profitable relationships.
LOCATION:It will be held at the infamous Ozzie's Diner - Bar and Grill 7780 Slauson Ave.\, Commerce\, CA 90040
UID:e.1156.971
SEQUENCE:3
DTSTAMP:20260419T173749Z
URL:https://www.montebellochamber.org/events/details/networking-breafast-3-0-ozzie-s-diner-bar-and-grill-03-12-2014-971
END:VEVENT

END:VCALENDAR
