BEGIN:VCALENDAR
VERSION:2.0
PRODID:-//ChamberMaster//Event Calendar 2.0//EN
METHOD:PUBLISH
X-PUBLISHED-TTL:P3D
REFRESH-INTERVAL:P3D
CALSCALE:GREGORIAN
BEGIN:VEVENT
DTSTART:20120509T143000Z
DTEND:20120509T163000Z
X-MICROSOFT-CDO-ALLDAYEVENT:FALSE
SUMMARY:Networking Breakfast 3.0
DESCRIPTION:Come to expand your professional connections\, build profitable relationships and get the opportunity to gather client referrals and leads.\n\n\n\nGive your business and your morning a boost! Be sure to bring plenty of business cards!\n\n\n\nParticipating Chambers: Montebello Chamber\, Commerce Industrial Council and Regional Hispanic Chamber of Commerce.
X-ALT-DESC;FMTTYPE=text/html:Come to expand your professional connections\, build profitable relationships and get the opportunity to gather client referrals and leads.<br />\n<br />\nGive your business and your morning a boost! Be sure to bring plenty of business cards!<br />\n<br />\n<strong>Participating Chambers:</strong> Montebello Chamber\, Commerce Industrial Council and Regional Hispanic Chamber of Commerce. 
LOCATION:Steven's Steak House 5332 Steven's Place City of Commerce\, CA 90040-3914 323-723-9856
UID:e.1156.633
SEQUENCE:3
DTSTAMP:20260420T065246Z
URL:https://www.montebellochamber.org/events/details/networking-breakfast-3-0-05-09-2012-633
END:VEVENT

END:VCALENDAR
