BEGIN:VCALENDAR
VERSION:2.0
PRODID:-//ChamberMaster//Event Calendar 2.0//EN
METHOD:PUBLISH
X-PUBLISHED-TTL:P3D
REFRESH-INTERVAL:P3D
CALSCALE:GREGORIAN
BEGIN:VEVENT
DTSTART:20150909T143000Z
DTEND:20150909T163000Z
X-MICROSOFT-CDO-ALLDAYEVENT:FALSE
SUMMARY:Networking Breakfast 3.0
DESCRIPTION:Networking Breakfast 3.0\n\nSponsored & Hosted by: Southern California Edison\n\nGive your morning a boost!\n\n\n\n\n\nBy:Montebello  Chamber of Commerce\, Commerce Industrial Council\, and Rosemead Chamber of Commerce
X-ALT-DESC;FMTTYPE=text/html:<strong>Networking Breakfast 3.0<br />\nSponsored &amp\; Hosted by: Southern California Edison</strong><br />\nGive your morning a boost!<br />\n<br />\n<br />\nBy:Montebello &nbsp\;Chamber of Commerce\, Commerce Industrial Council\, and Rosemead Chamber of Commerce<br />\n&nbsp\;
LOCATION:Southern California Edison Montebello Service Center 1000 E. Potrero Grande Drive Monterey Park\, CA 91755
UID:e.1156.1418
SEQUENCE:3
DTSTAMP:20260420T021659Z
URL:https://www.montebellochamber.org/events/details/networking-breakfast-3-0-09-09-2015-1418
END:VEVENT

END:VCALENDAR
