BEGIN:VCALENDAR
VERSION:2.0
PRODID:-//ChamberMaster//Event Calendar 2.0//EN
METHOD:PUBLISH
X-PUBLISHED-TTL:P3D
REFRESH-INTERVAL:P3D
CALSCALE:GREGORIAN
BEGIN:VEVENT
DTSTART:20140910T150000Z
DTEND:20140910T170000Z
X-MICROSOFT-CDO-ALLDAYEVENT:FALSE
SUMMARY:Networking Breakfast 3.0 at Beverly Hospital
DESCRIPTION:Attend the Multi-Chamber Networking Breakfast 3.0 at Beverly Hospital. This event is an opportunity to meet potential business partners\, associates\, and leads to new business. Register today!
X-ALT-DESC;FMTTYPE=text/html:Attend the Multi-Chamber Networking Breakfast 3.0 at Beverly Hospital. This event is an opportunity to meet potential business partners\, associates\, and leads to new business. Register today!
LOCATION:Beverly Hospital Basement Tower 309 West Beverly Blvd. Montebello\, CA 90640
UID:e.1156.1010
SEQUENCE:3
DTSTAMP:20260419T130426Z
URL:https://www.montebellochamber.org/events/details/networking-breakfast-3-0-at-beverly-hospital-09-10-2014-1010
END:VEVENT

END:VCALENDAR
