BEGIN:VCALENDAR
VERSION:2.0
PRODID:-//ChamberMaster//Event Calendar 2.0//EN
METHOD:PUBLISH
X-PUBLISHED-TTL:P3D
REFRESH-INTERVAL:P3D
CALSCALE:GREGORIAN
BEGIN:VEVENT
DTSTART:20140108T153000Z
DTEND:20140108T173000Z
X-MICROSOFT-CDO-ALLDAYEVENT:FALSE
SUMMARY:Networking Breakfast 3.0 at Steven's Steak House
DESCRIPTION:Join us for our Networking Breakfast 3.0! Expand your professional connections and build profitable relationships.
X-ALT-DESC;FMTTYPE=text/html:Join us for our Networking Breakfast 3.0! Expand your professional connections and build profitable relationships. 
LOCATION:Steven Steak and Seafood House 5332 Stevens Place Commerce CA\, 90040
UID:e.1156.968
SEQUENCE:3
DTSTAMP:20260419T204310Z
URL:https://www.montebellochamber.org/events/details/networking-breakfast-3-0-at-steven-s-steak-house-01-08-2014-968
END:VEVENT

END:VCALENDAR
