BEGIN:VCALENDAR
VERSION:2.0
PRODID:-//ChamberMaster//Event Calendar 2.0//EN
METHOD:PUBLISH
X-PUBLISHED-TTL:P3D
REFRESH-INTERVAL:P3D
CALSCALE:GREGORIAN
BEGIN:VEVENT
DTSTART:20161012T143000Z
DTEND:20161012T163000Z
X-MICROSOFT-CDO-ALLDAYEVENT:FALSE
SUMMARY:Networking Breakfast 3.0 - Beverly Hospital
DESCRIPTION:Networking Breakfast 3.0 with 3 Chambers!!  Give your morning a boost and join us at Beverly Hospital for our Networking Breakfast!
X-ALT-DESC;FMTTYPE=text/html:Networking Breakfast 3.0 with 3 Chambers!! &nbsp\;Give your morning a boost and join us at Beverly Hospital for our Networking Breakfast!
LOCATION:Beverly Hospital (Basement Conference Room) Main Entrance 309 W. Beverly Blvd. Montebello\, CA 90640
UID:e.1156.1494
SEQUENCE:3
DTSTAMP:20260419T160226Z
URL:https://www.montebellochamber.org/events/details/networking-breakfast-3-0-beverly-hospital-10-12-2016-1494
END:VEVENT

END:VCALENDAR
