BEGIN:VCALENDAR
VERSION:2.0
PRODID:-//ChamberMaster//Event Calendar 2.0//EN
METHOD:PUBLISH
X-PUBLISHED-TTL:P3D
REFRESH-INTERVAL:P3D
CALSCALE:GREGORIAN
BEGIN:VEVENT
DTSTART:20181003T150000Z
DTEND:20181003T163000Z
X-MICROSOFT-CDO-ALLDAYEVENT:FALSE
SUMMARY:Networking Breakfast 3.0 - Beverly Hospital-SOLD OUT
DESCRIPTION:THIS EVENT IS NOW SOLD OUT! \n\nJoin the staff\, members and guests of FOUR Chambers of Commerce-Montebello\, Bell Gardens\, Rosemead and Pico Rivera for a morning networking event featuring a full breakfast\, raffle prizes\, and presentation.
X-ALT-DESC;FMTTYPE=text/html:THIS EVENT IS NOW SOLD OUT!&nbsp\;<br />\nJoin the staff\, members and guests of FOUR Chambers of Commerce-Montebello\, Bell Gardens\, Rosemead and Pico Rivera for a morning networking event featuring a full breakfast\, raffle prizes\, and presentation.
LOCATION:Beverly Hospital 309 W. Beverly Blvd. (Basement Conference Room) Montebello\, CA 90640 (Enter the main entrance then take elevator to basement and follow the signs)
UID:e.1156.2863
SEQUENCE:3
DTSTAMP:20260419T160302Z
URL:https://www.montebellochamber.org/events/details/networking-breakfast-3-0-beverly-hospital-sold-out-2863
END:VEVENT

END:VCALENDAR
