BEGIN:VCALENDAR
VERSION:2.0
PRODID:-//ChamberMaster//Event Calendar 2.0//EN
METHOD:PUBLISH
X-PUBLISHED-TTL:P3D
REFRESH-INTERVAL:P3D
CALSCALE:GREGORIAN
BEGIN:VEVENT
DTSTART:20160309T153000Z
DTEND:20160309T173000Z
X-MICROSOFT-CDO-ALLDAYEVENT:FALSE
SUMMARY:Networking Breakfast 3.0 - Bicycle Hotel Casino
DESCRIPTION:Networking Breakfast 3.0 - The Bicycle Hotel Casino\n\nJoin the Montebello\, Bell Gardens\, and Commerce Chambers for our March 9th 2016 Networking Breakfast and give your morning a boost!
X-ALT-DESC;FMTTYPE=text/html:<strong><span style="color: rgb(0\, 128\, 0)\;">Networking Breakfast 3.0 - The Bicycle Hotel Casino</span></strong><br />\nJoin the Montebello\, Bell Gardens\, and Commerce Chambers for our <strong><span style="color: rgb(0\, 128\, 0)\;">March</span></strong> <strong><span style="color: rgb(0\, 128\, 0)\;">9th 2016</span></strong> Networking Breakfast and give your morning a boost!<br />\n<br />\n&nbsp\;
LOCATION:The Bicycle Hotel Casino 888 Bicycle Casino Drive Bell Gardens\, CA 90201
UID:e.1156.1457
SEQUENCE:3
DTSTAMP:20260419T214625Z
URL:https://www.montebellochamber.org/events/details/networking-breakfast-3-0-bicycle-hotel-casino-03-09-2016-1457
END:VEVENT

END:VCALENDAR
