BEGIN:VCALENDAR
VERSION:2.0
PRODID:-//ChamberMaster//Event Calendar 2.0//EN
METHOD:PUBLISH
X-PUBLISHED-TTL:P3D
REFRESH-INTERVAL:P3D
CALSCALE:GREGORIAN
BEGIN:VEVENT
DTSTART:20170308T153000Z
DTEND:20170308T173000Z
X-MICROSOFT-CDO-ALLDAYEVENT:FALSE
SUMMARY:Networking Breakfast 3.0 Bicycle Hotel & Casino
DESCRIPTION:Networking Breakfast 3.0\n\nwith the Montebello Chamber of Commerce\, Bell Gardens Chamber of Commerce\, and the Commerce Industrial Council Chamber of Commerce
X-ALT-DESC;FMTTYPE=text/html:Networking Breakfast 3.0<br />\nwith the Montebello Chamber of Commerce\, Bell Gardens Chamber of Commerce\, and the Commerce Industrial Council Chamber of Commerce<br />\n&nbsp\;
LOCATION:Bicycle Hotel & Casino 888 Bicycle Casino Drive Bell Gardens\, CA 90201
UID:e.1156.1534
SEQUENCE:3
DTSTAMP:20260419T172754Z
URL:https://www.montebellochamber.org/events/details/networking-breakfast-3-0-bicycle-hotel-casino-1534
END:VEVENT

END:VCALENDAR
